Workbook

Sheet Custo por trabalhador
A1: PLANILHA DE CUSTOS E FORMAÇÃO DE PREÇOS
A2: MODELO DE FORMAÇÃO DE CUSTO MENSAL PARA UM EMPREGADO
A3: * A planilha de custos e formação de preços é ferramenta de apoio à realização de estimativas da contratação e para a análise das propostas na fase de pregão e nas prorrogações contratuais. * O modelo disponibilizado na Instrução Normativa n° 5, de 26 de maio de 2017, é inspiracional, devendo ser adaptado pelo órgão ou entidade contratante às suas necessidades. * A presente proposta visa, tão somente, auxiliar aos órgão que não possuam um modelo definido na formatação dos cálculos de direitos trabalhistas para estimativas de contratos de prestação de serviços, observando as disposições da Consolidação das Leis do Trabalho - CLT e das Convenções Coletivas de Trabalho - CCT (sendo válidos, ainda, os acordos e dissídios coletivos). * É responsábilidade do usuário que optar pela utilização deste modelo a conferência das fórmulas automatizadas em conformidade com as dispoções de CLT e CCT, para minimizar o risco de equívocos no cômputo das previsões financeiras. * Dúvidas sobre a metodologia de cálculo poderão ser esclarecidas com a leitura dos Cadernos Técnicos de divulgação de valores limites em: https://www.comprasgovernamentais.gov.br/index.php/cadernos-tecnicos-e-valores-limites.
A5: MÓDULO 1 - REMUNERAÇÃO
A6: * A remuneração é definida no art. 457 da Consolidação das Leis do Trabalho. * É composta por Salário Base, Adicionais (noturno, de insalubridade ou periculosidade) e gratificações, quando houver.
A8: SALÁRIO BASE
A9: * O Salário Base vem definido na Convenção Coletiva de Trabalho da categoria profissional a ser contratada para o objeto da prestação de serviço. * O contratante deverá observar se a CCT abrange o município de prestação de serviço e se está vigente.
A11: SALÁRIO BASE
A12: Cargo A
A13: Cargo B
A15: GRATIFICAÇÃO DE FUNÇÃO
A16: * Gratificação de função, quando houver, virá informada na Convenção Coletiva de Trabalho da categoria profissional a ser contratada. * O órgão contrantante deverá observar, além da existência de gratificação, se esta incidirá sobre os adicionais, devendo adaptar a planilha ao caso em concreto. * Para o presente modelo foi considerada gratificação como percentual sobre o salário base e sem incidência sobre os adicionais (noturno, periculosidade ou insalubridade).
A18: GRATIFICAÇÃO DE FUNÇÃO
A19: Categoria | B19: Base de cálculo | C19: Percentual | D19: Valor da Gratificação
A20: Cargo A | B20: =B12 -> 0 | D20: =B20*C20 -> 0
A21: Cargo B | B21: =B13 -> 0 | D21: =B21*C21 -> 0
A23: ADICIONAIS (periculosidade ou insalubridade, se houver)
A24: * Os adicionais de periculosidade ou insalubridade, em conformidade com os art. 192 e 193 da CLT, dependem da natureza do serviço a ser prestado. * O órgão contrantante deverá observar, além da existência de previsão em CLT, se há informações na Convenção Coletiva de Trabalho acerca dos adicionais, bem como seu percentual e a base de cálculo, devendo adaptar a planilha ao caso em concreto.
A26: ADICIONAL DE XXX
A27: Categoria | B27: Base de cálculo | C27: Percentual | D27: Valor
A28: Cargo A (12x36 Diurno) | D28: =B28*C28 -> 0
A29: Cargo A (12x36 Noturno) | C29: =C28 -> 0 | D29: =B29*C29 -> 0
A30: Cargo A Cargo A (44h semanais) | C30: =C29 -> 0 | D30: =B30*C30 -> 0
A31: Cargo B (12x36 Diurno) | C31: =C30 -> 0 | D31: =B31*C31 -> 0
A32: Cargo B (12x36 Noturno) | C32: =C31 -> 0 | D32: =B32*C32 -> 0
A33: Cargo B (44h semanais) | C33: =C32 -> 0 | D33: =B33*C33 -> 0
A36: ADICIONAL NOTURNO
A37: * O Adicional Noturno e a Hora Noturna Reduzida, conforme art. 73 da CLT, serão pagos entre 22h e 5h do dia seguinte, sem prorrogação quando da jornada 12x36h. * O órgão contrantante deverá observar, além da existência do previsto em CLT, se há informações na Convenção Coletiva de Trabalho acerca da existência do percentual de adicional noturno, bem como se haverá pagamento de hora noturna reduzida e adaptar a planilha ao caso em concreto.
A39: ADICIONAL NOTURNO
A40: Categoria | B40: Base de Cálculo | C40: Proporção | D40: Percentual | E40: Valor
A41: Cargo A (12x36 Noturno) | B41: =B12+D29 -> 0 | C41: =7/12 -> 0.58333333 | E41: =B41*C41*D41 -> 0
A42: Cargo B (12x36 Noturno) | B42: =B13+D32 -> 0 | C42: =7/12 -> 0.58333333 | D42: =D41 -> 0 | E42: =B42*C42*D42 -> 0
A43: HORA NOTURNA REDUZIDA
A44: Categoria | B44: Base de Cálculo | C44: Proporção | D44: Percentual | E44: Valor
A45: Cargo A (12x36 Noturno) | B45: =B12+D29 -> 0 | C45: =1/12 -> 0.083333333 | D45: =1+D41 -> 1 | E45: =B45*C45*D45 -> 0
A46: Cargo B (12x36 Noturno) | B46: =B13+D32 -> 0 | C46: =1/12 -> 0.083333333 | D46: =1+D42 -> 1 | E46: =B46*C46*D46 -> 0
A48: ADICIONAL POR TRABALHO NOTURNO
A49: Categoria | B49: Adicional Noturno | C49: Hora Noturna Reduzida | D49: Valor
A50: Cargo A (12x36 Noturno) | B50: =E41 -> 0 | C50: =E45 -> 0 | D50: =SUM(B50:C50) -> 0
A51: Cargo B (12x36 Noturno) | B51: =E42 -> 0 | C51: =E46 -> 0 | D51: =SUM(B51:C51) -> 0
...

Sheet Administrativo I 40H
A1: PLANILHA DE CUSTOS E FORMAÇÃO DE PREÇOS
A2: MODELO PARA A CONSOLIDAÇÃO E APRESENTAÇÃO DE PROPOSTAS
A4: 1. DISCRIMINAÇÃO DOS SERVIÇOS (DADOS REFERENTES À CONTRATAÇÃO)
A6: A | B6: Nº do Processo | C6: 19.699/2026
A7: B | B7: Modalidade Licitação | C7: Pregão Eletrônico
A8: C | B8: Data de apresentação da proposta (dia/mês/ano): | C8: 46182
A9: D | B9: Município/UF | C9: Lucas do Rio Verde/MT
A10: E | B10: Número de meses de execução contratual: | C10: 12
A11: F | B11: Tipo de Serviço (mesmo serviço com características distintas) | C11: Serviço de Mão de Obra de Apoio Administrativo I 40H
A12: G | B12: Unidade de Medida | C12: Posto/Mês
A13: H | B13: Classificação Brasileira de Ocupações (CBO) | C13: 4110-05
A14: I | B14: Salário Normativo da Categoria Profissional 44H | C14: 0
A15: J | B15: Categoria Profissional (vinculada à execução contratual) | C15: Empregados de Empresas de Asseio e Conservação
A16: K | B16: Ano Acordo, Convenção ou Dissídio Coletivo | C16: 2026
A17: L | B17: Nº de registro do Acordo, Convenção ou Dissídio Coletivo | C17: MT000140/2026
A18: M | B18: Data-Base da Categoria (dia/mês/ano) | C18: 46023
A21: Módulo 1 - Composição da Remuneração | F21: Salário normativo
F22: 1965.09
A23: 1 | B23: Composição da Remuneração | D23: Valor (R$) | G23: 200
A24: A | B24: Salário-Base | D24: 0 | F24: =F22/220 -> 8.9322273 | G24: =F24*G23 -> 1786.4455
A25: B | B25: Adicional de Assiduidade | D25: 0
A26: C | B26: Horas Extras 50% (Máximo 30 horas/mês) | D26: =(D24/200)*1.5*30 -> 0
A27: D | B27: Horas Extras 100% (Máximo 12 horas/mês) | D27: =(D24/200)*2*12 -> 0
A28: Total | D28: =SUM(D24:D27) -> 0
A29: Salário-Base: Foi utilizado como referência a 3ª Faixa Salarial da CCT MT000140/2026
A30: Para cálculos do item 1(A) foi usado o salário de referência da faixa salarial para carga horária de 44h semanais dividido por 220, chegou-se no valor da hora trabalhada, multiplicou-se pela carga horária mensal a ser realizada, utilizando o seguinte cálculo = R$ 1.965,09/220 = 8,93 (valor da hora) x 200 (carga horária mensal a ser trabalhada) resultando em um salário base de R$ 1.786,45
A31: Para cálculos do item 1(C) Será permitido a realização de 30 horas extras no mês, mediante autorização prévia. O valor da hora de referência foi estabelecido da seguinte forma: ((Salário base/carga horária 200h) * adicional 50% * quantidade máxima de 30 horas).
A32: Para cálculos do item 1(D) Será permitido a realização de 12 horas extras no mês, mediante autorização prévia. O valor da hora de referência foi estabelecido da seguinte forma: ((Salário base/carga horária 200h) * adicional 100% * quantidade máxima de 12 horas).
A34: Módulo 2 - Encargos e Benefícios Anuais, Mensais e Diários
A36: BASE DE CÁLCULO PARA O MÓDULO 2.1: | C36: MÓDULO 1 | D36: =D28 -> 0
C37: TOTAL | D37: =SUM(D36) -> 0
A39: Submódulo 2.1 - 13º (décimo terceiro) Salário, Férias e Adicional de Férias
A41: 2.1 | B41: 13º (décimo terceiro) Salário, Férias e Adicional de Férias | C41: Percentual (%) | D41: Valor (R$)
A42: A | B42: 13º (décimo terceiro) Salário | C42: 0.08333 | D42: =ROUND($D$37*C42,2) -> 0
A43: B | B43: Férias | C43: 0.08333 | D43: =ROUND($D$37*C43,2) -> 0
A44: C | B44: Adicional de Férias | C44: 0.027778 | D44: =ROUND($D$37*C44,2) -> 0
A45: Total | D45: =SUM(D42:D44) -> 0
A46: Para cálculos do itens 2.1 (A.B): Calculo mensal representando 12 meses, logo, 1/12 (um doze avos), (100%/12)=8,333% (100% remuneração/12 meses) Para cálculo do item 2.1.C: O adicional de férias corresponde a 1/3 da remuneração mensal, logo, 100%/3/12=2,7778%
A48: BASE DE CÁLCULO PARA O MÓDULO 2.2: | C48: MÓDULO 1 | D48: =D28 -> 0
C49: MÓDULO 2.1 | D49: =D45 -> 0
...

Sheet Administrativo II 40H
A1: PLANILHA DE CUSTOS E FORMAÇÃO DE PREÇOS
A2: MODELO PARA A CONSOLIDAÇÃO E APRESENTAÇÃO DE PROPOSTAS
A4: 1. DISCRIMINAÇÃO DOS SERVIÇOS (DADOS REFERENTES À CONTRATAÇÃO)
A6: A | B6: Nº do Processo | C6: 19.699/2026
A7: B | B7: Modalidade Licitação | C7: Pregão Eletrônico
A8: C | B8: Data de apresentação da proposta (dia/mês/ano): | C8: 46182
A9: D | B9: Município/UF | C9: Lucas do Rio Verde/MT
A10: E | B10: Número de meses de execução contratual: | C10: 12
A11: F | B11: Tipo de Serviço (mesmo serviço com características distintas) | C11: Serviço de Mão de Obra de Apoio Administrativo II 40H
A12: G | B12: Unidade de Medida | C12: Posto/Mês
A13: H | B13: Classificação Brasileira de Ocupações (CBO) | C13: 4110-05
A14: I | B14: Salário Normativo da Categoria Profissional 44H | C14: 0
A15: J | B15: Categoria Profissional (vinculada à execução contratual) | C15: Empregados de Empresas de Asseio e Conservação
A16: K | B16: Ano Acordo, Convenção ou Dissídio Coletivo | C16: 2026
A17: L | B17: Nº de registro do Acordo, Convenção ou Dissídio Coletivo | C17: MT000140/2026
A18: M | B18: Data-Base da Categoria (dia/mês/ano) | C18: 46023
A21: Módulo 1 - Composição da Remuneração | F21: Salário normativo
F22: 2517.33
A23: 1 | B23: Composição da Remuneração | D23: Valor (R$) | G23: 200
A24: A | B24: Salário-Base | D24: 0 | F24: =F22/220 -> 11.442409 | G24: =F24*G23 -> 2288.4818
A25: B | B25: Adicional de Assiduidade | D25: 0
A26: C | B26: Horas Extras 50% (Máximo 30 horas/mês) | D26: =(D24/200)*1.5*30 -> 0
A27: D | B27: Horas Extras 100% (Máximo 12 horas/mês) | D27: =(D24/200)*2*12 -> 0
A28: Total | D28: =SUM(D24:D27) -> 0
A29: Salário-Base: Foi utilizado a 8ª Faixa Salarial da CCT MT000140/2026, considerando que a remuneração da faixa é compartível com as funções e responsabilidades atribuídas ao posto que realizará trabalhos administrativos com permissão para conduzir veículos.
A30: Para cálculos do item 1(A) foi usado o salário de referência da faixa salarial que é de 44h semanais dividido por 220, chegou-se no valor da hora trabalhada, multiplicou-se pela carga horária mensal a ser realizada, utilizando o seguinte cálculo = R$ 2.769,06/220 = 12,59 (valor da hora) x 200 (carga horária mensal) resultando em um salário base de R$ 2.517,33
A31: Para cálculos do item 1(C) Será permitido a realização de 30 horas extras no mês, mediante autorização prévia. O valor da hora de referência foi estabelecido da seguinte forma: ((Salário base/carga horária 200h) * adicional 50% * quantidade máxima de 30 horas).
A32: Para cálculos do item 1(D) Será permitido a realização de 12 horas extras no mês, mediante autorização prévia. O valor da hora de referência foi estabelecido da seguinte forma: ((Salário base/carga horária 200h) * adicional 100% * quantidade máxima de 12 horas).
A34: Módulo 2 - Encargos e Benefícios Anuais, Mensais e Diários
A36: BASE DE CÁLCULO PARA O MÓDULO 2.1: | C36: MÓDULO 1 | D36: =D28 -> 0
C37: TOTAL | D37: =SUM(D36) -> 0
A39: Submódulo 2.1 - 13º (décimo terceiro) Salário, Férias e Adicional de Férias
A41: 2.1 | B41: 13º (décimo terceiro) Salário, Férias e Adicional de Férias | C41: Percentual (%) | D41: Valor (R$)
A42: A | B42: 13º (décimo terceiro) Salário | C42: 0.08333 | D42: =ROUND($D$37*C42,2) -> 0
A43: B | B43: Férias | C43: 0.08333 | D43: =ROUND($D$37*C43,2) -> 0
A44: C | B44: Adicional de Férias | C44: 0.027778 | D44: =ROUND($D$37*C44,2) -> 0
A45: Total | D45: =SUM(D42:D44) -> 0
A46: Para cálculos do itens 2.1 (A.B): Calculo mensal representando 12 meses, logo, 1/12 (um doze avos), (100%/12)=8,333% (100% remuneração/12 meses) Para cálculo do item 2.1.C: O adicional de férias corresponde a 1/3 da remuneração mensal, logo, 100%/3/12=2,7778%
A48: BASE DE CÁLCULO PARA O MÓDULO 2.2: | C48: MÓDULO 1 | D48: =D28 -> 0
C49: MÓDULO 2.1 | D49: =D45 -> 0
...

Sheet Tec Administrativo 40H
A1: PLANILHA DE CUSTOS E FORMAÇÃO DE PREÇOS
A2: MODELO PARA A CONSOLIDAÇÃO E APRESENTAÇÃO DE PROPOSTAS
A4: 1. DISCRIMINAÇÃO DOS SERVIÇOS (DADOS REFERENTES À CONTRATAÇÃO)
A6: A | B6: Nº do Processo | C6: 19.699/2026
A7: B | B7: Modalidade Licitação | C7: Pregão Eletrônico
A8: C | B8: Data de apresentação da proposta (dia/mês/ano): | C8: 46182
A9: D | B9: Município/UF | C9: Lucas do Rio Verde/MT
A10: E | B10: Número de meses de execução contratual: | C10: 12
A11: F | B11: Tipo de Serviço (mesmo serviço com características distintas) | C11: Serviço de Mão de Obra de Técnico Administrativo de Suporte 40H
A12: G | B12: Unidade de Medida | C12: Posto/Mês
A13: H | B13: Classificação Brasileira de Ocupações (CBO) | C13: 4110-10
A14: I | B14: Salário Normativo da Categoria Profissional 44H | C14: 0
A15: J | B15: Categoria Profissional (vinculada à execução contratual) | C15: Empregados de Empresas de Asseio e Conservação
A16: K | B16: Ano Acordo, Convenção ou Dissídio Coletivo | C16: 2026
A17: L | B17: Nº de registro do Acordo, Convenção ou Dissídio Coletivo | C17: MT000140/2026
A18: M | B18: Data-Base da Categoria (dia/mês/ano) | C18: 46023
A21: Módulo 1 - Composição da Remuneração | F21: Salário normativo
F22: =C14 -> 0
A23: 1 | B23: Composição da Remuneração | D23: Valor (R$) | G23: 200
A24: A | B24: Salário-Base | D24: 0 | F24: =C14/220 -> 0 | G24: =F24*G23 -> 0
A25: B | B25: Gratificação de Função | C25: 0.15 | D25: =D24*C25 -> 0
A26: C | B26: Horas Extras 50% (Máximo 30 horas/mês) | D26: =(D24/200)*1.5*30 -> 0
A27: D | B27: Horas Extras 100% (Máximo 12 horas/mês) | D27: =(D24/200)*2*12 -> 0
A28: Total | D28: =SUM(D24:D27) -> 0
A29: Salário-Base: Foi utilizado a 12ª Faixa Salarial da CCT MT MT000140/2026.
A30: Para cálculos do item 1(A) foi usado o salário de referência da faixa salarial que é de 44h semanais dividido por 220, chegou-se no valor da hora trabalhada, multiplicou-se pela carga horária mensal a ser realizada, utilizando o seguinte cálculo = R$ 4.505,36/220 = 20,48 (valor da hora) x 200 (carga horária mensal) resultando em um salário base de R$ 4.095,78.
A31: Para cálculos do item 1(C) Será permitido a realização de 30 horas extras no mês, mediante autorização prévia. O valor da hora de referência foi estabelecido da seguinte forma: ((Salário base/carga horária 200h) * adicional 50% * quantidade máxima de 30 horas).
A32: Para cálculos do item 1(D) Será permitido a realização de 12 horas extras no mês, mediante autorização prévia. O valor da hora de referência foi estabelecido da seguinte forma: ((Salário base/carga horária 200h) * adicional 100% * quantidade máxima de 12 horas).
A33: O adicional gratificação de função será concedido através de autorização e comunicação enviada pela secretaria demandante.
A35: Módulo 2 - Encargos e Benefícios Anuais, Mensais e Diários
A37: BASE DE CÁLCULO PARA O MÓDULO 2.1: | C37: MÓDULO 1 | D37: =D28 -> 0
C38: TOTAL | D38: =SUM(D37) -> 0
A40: Submódulo 2.1 - 13º (décimo terceiro) Salário, Férias e Adicional de Férias
A42: 2.1 | B42: 13º (décimo terceiro) Salário, Férias e Adicional de Férias | C42: Percentual (%) | D42: Valor (R$)
A43: A | B43: 13º (décimo terceiro) Salário | C43: 0.08333 | D43: =ROUND($D$38*C43,2) -> 0
A44: B | B44: Férias | C44: 0.08333 | D44: =ROUND($D$38*C44,2) -> 0
A45: C | B45: Adicional de Férias | C45: 0.027778 | D45: =ROUND($D$38*C45,2) -> 0
A46: Total | D46: =SUM(D43:D45) -> 0
A47: Para cálculos do itens 2.1 (A.B): Calculo mensal representando 12 meses, logo, 1/12 (um doze avos), (100%/12)=8,333% (100% remuneração/12 meses) Para cálculo do item 2.1.C: O adicional de férias corresponde a 1/3 da remuneração mensal, logo, 100%/3/12=2,7778%
A49: BASE DE CÁLCULO PARA O MÓDULO 2.2: | C49: MÓDULO 1 | D49: =D28 -> 0
...

Sheet Educador Social 40H
A1: PLANILHA DE CUSTOS E FORMAÇÃO DE PREÇOS
A2: MODELO PARA A CONSOLIDAÇÃO E APRESENTAÇÃO DE PROPOSTAS
A4: 1. DISCRIMINAÇÃO DOS SERVIÇOS (DADOS REFERENTES À CONTRATAÇÃO)
A6: A | B6: Nº do Processo | C6: 19.699/2026
A7: B | B7: Modalidade Licitação | C7: Pregão Eletrônico
A8: C | B8: Data de apresentação da proposta (dia/mês/ano): | C8: 46182
A9: D | B9: Município/UF | C9: Lucas do Rio Verde/MT
A10: E | B10: Número de meses de execução contratual: | C10: 12
A11: F | B11: Tipo de Serviço (mesmo serviço com características distintas) | C11: Serviço de Mão de Obra de Educador Social 40H
A12: G | B12: Unidade de Medida | C12: Posto/Mês
A13: H | B13: Classificação Brasileira de Ocupações (CBO) | C13: 5153-05
A14: I | B14: Salário Normativo da Categoria Profissional 44h | C14: 0
A15: J | B15: Categoria Profissional (vinculada à execução contratual) | C15: Empregados de Empresas de Asseio e Conservação
A16: K | B16: Ano Acordo, Convenção ou Dissídio Coletivo | C16: 2026
A17: L | B17: Nº de registro do Acordo, Convenção ou Dissídio Coletivo | C17: MT000140/2026
A18: M | B18: Data-Base da Categoria (dia/mês/ano) | C18: 46023
A21: Módulo 1 - Composição da Remuneração | F21: Salário normativo
F22: =C14 -> 0
A23: 1 | B23: Composição da Remuneração | D23: Valor (R$) | G23: 200
A24: A | B24: Salário-Base | D24: 0 | F24: =C14/220 -> 0 | G24: =F24*G23 -> 0
A25: B | B25: Adicional de Assiduidade | D25: 0
A26: C | B26: Horas Extras 50% (Máximo 30 horas/mês) | D26: =(D24/200)*1.5*30 -> 0
A27: D | B27: Horas Extras 100% (Máximo 12 horas/mês) | D27: =(D24/200)*2*12 -> 0
A28: Total | D28: =SUM(D24:D27) -> 0
A29: Salário-Base: Foi utilizado a 8ª Faixa Salarial da CCT MT000140/2026, usando como referência o agente administrativo motorizado, considerando que Educador Social realizará trabalhos administrativos e com atribuições para conduzir veículos.
A30: Para cálculos do item 1(A) foi usado o salário de referência da faixa salarial que é de 44h semanais dividido por 220, chegou-se no valor da hora trabalhada, multiplicou-se pela carga horária mensal a ser realizada, utilizando o seguinte cálculo = R$ 2.769,06/220 = 12,59 (valor da hora) x 200 (carga horária mensal) resultando em um salário base de R$ 2.517,33
A31: Para cálculos do item 1(C) Será permitido a realização de 30 horas extras no mês, mediante autorização prévia. O valor da hora de referência foi estabelecido da seguinte forma: ((Salário base/carga horária 200h) * adicional 50% * quantidade máxima de 30 horas).
A32: Para cálculos do item 1(D) Será permitido a realização de 12 horas extras no mês, mediante autorização prévia. O valor da hora de referência foi estabelecido da seguinte forma: ((Salário base/carga horária 200h) * adicional 100% * quantidade máxima de 12 horas).
A34: Módulo 2 - Encargos e Benefícios Anuais, Mensais e Diários
A36: BASE DE CÁLCULO PARA O MÓDULO 2.1: | C36: MÓDULO 1 | D36: =D28 -> 0
C37: TOTAL | D37: =SUM(D36) -> 0
A39: Submódulo 2.1 - 13º (décimo terceiro) Salário, Férias e Adicional de Férias
A41: 2.1 | B41: 13º (décimo terceiro) Salário, Férias e Adicional de Férias | C41: Percentual (%) | D41: Valor (R$)
A42: A | B42: 13º (décimo terceiro) Salário | C42: 0.08333 | D42: =ROUND($D$37*C42,2) -> 0
A43: B | B43: Férias | C43: 0.08333 | D43: =ROUND($D$37*C43,2) -> 0
A44: C | B44: Adicional de Férias | C44: 0.027778 | D44: =ROUND($D$37*C44,2) -> 0
A45: Total | D45: =SUM(D42:D44) -> 0
A46: Para cálculos do itens 2.1 (A.B): Calculo mensal representando 12 meses, logo, 1/12 (um doze avos), (100%/12)=8,333% (100% remuneração/12 meses) Para cálculo do item 2.1.C: O adicional de férias corresponde a 1/3 da remuneração mensal, logo, 100%/3/12=2,7778%
A48: BASE DE CÁLCULO PARA O MÓDULO 2.2: | C48: MÓDULO 1 | D48: =D28 -> 0
C49: MÓDULO 2.1 | D49: =D45 -> 0
...

Sheet Cuidador Social 44H
A1: PLANILHA DE CUSTOS E FORMAÇÃO DE PREÇOS
A2: MODELO PARA A CONSOLIDAÇÃO E APRESENTAÇÃO DE PROPOSTAS
A4: 1. DISCRIMINAÇÃO DOS SERVIÇOS (DADOS REFERENTES À CONTRATAÇÃO)
A6: A | B6: Nº do Processo | C6: 19.699/2026
A7: B | B7: Modalidade Licitação | C7: Pregão Eletrônico
A8: C | B8: Data de apresentação da proposta (dia/mês/ano): | C8: 46182
A9: D | B9: Município/UF | C9: Lucas do Rio Verde/MT
A10: E | B10: Número de meses de execução contratual: | C10: 12
A11: F | B11: Tipo de Serviço (mesmo serviço com características distintas) | C11: Serviço de Mão de Obra de Cuidador Social 44H
A12: G | B12: Unidade de Medida | C12: Posto/Mês
A13: H | B13: Classificação Brasileira de Ocupações (CBO) | C13: 5153-10
A14: I | B14: Salário Normativo da Categoria Profissional 44H | C14: 0
A15: J | B15: Categoria Profissional (vinculada à execução contratual) | C15: Empregados de Empresas de Asseio e Conservação
A16: K | B16: Ano Acordo, Convenção ou Dissídio Coletivo | C16: 2026
A17: L | B17: Nº de registro do Acordo, Convenção ou Dissídio Coletivo | C17: MT000140/2026
A18: M | B18: Data-Base da Categoria (dia/mês/ano) | C18: 46023
A21: Módulo 1 - Composição da Remuneração
A23: 1 | B23: Composição da Remuneração | D23: Valor (R$)
A24: A | B24: Salário-Base | D24: 0 | F24: =C14/220 -> 0
A25: B | B25: Adicional de Assiduidade | D25: 0
A26: C | B26: Horas Extras 50% (Máximo 30 horas/mês) | D26: =(D24/220)*1.5*30 -> 0
A27: D | B27: Horas Extras 100% (Máximo 12 horas/mês) | D27: =(D24/220)*2*12 -> 0
A28: Total | D28: =SUM(D24:D27) -> 0
A29: Salário-Base: Foi utilizado a 10ª Faixa Salarial da CCT MT000140/2026
A30: Para cálculos do item 1(C) Será permitido a realização de 30 horas extras no mês, mediante autorização prévia. O valor da hora de referência foi estabelecido da seguinte forma: ((Salário base/carga horária 220h) * adicional 50% * quantidade máxima de 30 horas).
A31: Para cálculos do item 1(D) Será permitido a realização de 12 horas extras no mês, mediante autorização prévia. O valor da hora de referência foi estabelecido da seguinte forma: ((Salário base/carga horária 220h) * adicional 100% * quantidade máxima de 12 horas).
A33: Módulo 2 - Encargos e Benefícios Anuais, Mensais e Diários
A35: BASE DE CÁLCULO PARA O MÓDULO 2.1: | C35: MÓDULO 1 | D35: =D28 -> 0
C36: TOTAL | D36: =SUM(D35) -> 0
A38: Submódulo 2.1 - 13º (décimo terceiro) Salário, Férias e Adicional de Férias
A40: 2.1 | B40: 13º (décimo terceiro) Salário, Férias e Adicional de Férias | C40: Percentual (%) | D40: Valor (R$)
A41: A | B41: 13º (décimo terceiro) Salário | C41: 0.08333 | D41: =ROUND($D$36*C41,2) -> 0
A42: B | B42: Férias | C42: 0.08333 | D42: =ROUND($D$36*C42,2) -> 0
A43: C | B43: Adicional de Férias | C43: 0.027778 | D43: =ROUND($D$36*C43,2) -> 0
A44: Total | D44: =SUM(D41:D43) -> 0
A45: Para cálculos do itens 2.1 (A.B): Calculo mensal representando 12 meses, logo, 1/12 (um doze avos), (100%/12)=8,333% (100% remuneração/12 meses) Para cálculo do item 2.1.C: O adicional de férias corresponde a 1/3 da remuneração mensal, logo, 100%/3/12=2,7778%
A47: BASE DE CÁLCULO PARA O MÓDULO 2.2: | C47: MÓDULO 1 | D47: =D28 -> 0
C48: MÓDULO 2.1 | D48: =D44 -> 0
C49: TOTAL | D49: =SUM(D47:D48) -> 0
A51: Submódulo 2.2 - Encargos Previdenciários (GPS), Fundo de Garantia por Tempo de Serviço (FGTS) e outras contribuições.
...

Sheet Cuidador Social 12x36 Diurno
A1: PLANILHA DE CUSTOS E FORMAÇÃO DE PREÇOS
A2: MODELO PARA A CONSOLIDAÇÃO E APRESENTAÇÃO DE PROPOSTAS
A4: 1. DISCRIMINAÇÃO DOS SERVIÇOS (DADOS REFERENTES À CONTRATAÇÃO)
A6: A | B6: Nº do Processo | C6: 19.699/2026
A7: B | B7: Modalidade Licitação | C7: Pregão Eletrônico
A8: C | B8: Data de apresentação da proposta (dia/mês/ano): | C8: 46182
A9: D | B9: Município/UF | C9: Lucas do Rio Verde/MT | K9: horas noturnas
A10: E | B10: Número de meses de execução contratual: | C10: 12
A11: F | B11: Tipo de Serviço (mesmo serviço com características distintas) | C11: Serviço de Mão de Obra de Cuidador Social 12x36 Diurno | J11: Mínimo | K11: 180h = 15 plantões | L11: =15*7 -> 105
A12: G | B12: Unidade de Medida | C12: Posto/Mês | J12: media | K12: 192h=16 plantões | L12: =16*7 -> 112
A13: H | B13: Classificação Brasileira de Ocupações (CBO) | C13: 5153-10 | J13: máximo | K13: 204h=17 plantões | L13: =17*7 -> 119
A14: I | B14: Salário Normativo da Categoria Profissional 44H | C14: 0
A15: J | B15: Categoria Profissional (vinculada à execução contratual) | C15: Empregados de Empresas de Asseio e Conservação
A16: K | B16: Ano Acordo, Convenção ou Dissídio Coletivo | C16: 2026
A17: L | B17: Nº de registro do Acordo, Convenção ou Dissídio Coletivo | C17: MT000140/2026
A18: M | B18: Data-Base da Categoria (dia/mês/ano) | C18: 46023
A21: Módulo 1 - Composição da Remuneração | F21: Salário normativo
F22: =C14 -> 0
A23: 1 | B23: Composição da Remuneração | D23: Valor (R$) | G23: 180 | H23: horas/mes
A24: A | B24: Salário-Base | D24: 0 | F24: =C14/220 -> 0 | G24: =F24*G23 -> 0 | H24: base proporcional
A25: B | B25: Adicional de Assiduidade | D25: 0
A26: Total | D26: =SUM(D24:D25) -> 0
A27: Salário-Base: Foi utilizado a 10ª Faixa Salarial da CCT MT000140/2026
A29: Módulo 2 - Encargos e Benefícios Anuais, Mensais e Diários
A31: BASE DE CÁLCULO PARA O MÓDULO 2.1: | C31: MÓDULO 1 | D31: =D26 -> 0
C32: TOTAL | D32: =SUM(D31) -> 0
A34: Submódulo 2.1 - 13º (décimo terceiro) Salário, Férias e Adicional de Férias
A36: 2.1 | B36: 13º (décimo terceiro) Salário, Férias e Adicional de Férias | C36: Percentual (%) | D36: Valor (R$)
A37: A | B37: 13º (décimo terceiro) Salário | C37: 0.08333 | D37: =ROUND($D$32*C37,2) -> 0
A38: B | B38: Férias | C38: 0.08333 | D38: =ROUND($D$32*C38,2) -> 0
A39: C | B39: Adicional de Férias | C39: 0.027778 | D39: =ROUND($D$32*C39,2) -> 0
A40: Total | D40: =SUM(D37:D39) -> 0
A41: Para cálculos do itens 2.1 (A.B): Calculo mensal representando 12 meses, logo, 1/12 (um doze avos), (100%/12)=8,333% (100% remuneração/12 meses) Para cálculo do item 2.1.C: O adicional de férias corresponde a 1/3 da remuneração mensal, logo, 100%/3/12=2,7778%
A43: BASE DE CÁLCULO PARA O MÓDULO 2.2: | C43: MÓDULO 1 | D43: =D26 -> 0
C44: MÓDULO 2.1 | D44: =D40 -> 0
C45: TOTAL | D45: =SUM(D43:D44) -> 0
A47: Submódulo 2.2 - Encargos Previdenciários (GPS), Fundo de Garantia por Tempo de Serviço (FGTS) e outras contribuições.
A49: 2.2 | B49: GPS, FGTS e outras contribuições | C49: Percentual (%) | D49: Valor (R$)
A50: A | B50: INSS | C50: 0.2 | D50: =D45*C50 -> 0
A51: B | B51: Salário Educação | C51: 0.025 | D51: =D45*C51 -> 0
...

Sheet Cuidador Social 12x36 Noturno
A1: PLANILHA DE CUSTOS E FORMAÇÃO DE PREÇOS
A2: MODELO PARA A CONSOLIDAÇÃO E APRESENTAÇÃO DE PROPOSTAS
A4: 1. DISCRIMINAÇÃO DOS SERVIÇOS (DADOS REFERENTES À CONTRATAÇÃO)
A6: A | B6: Nº do Processo | C6: 19.699/2026
A7: B | B7: Modalidade Licitação | C7: Pregão Eletrônico
A8: C | B8: Data de apresentação da proposta (dia/mês/ano): | C8: 46182
A9: D | B9: Município/UF | C9: Lucas do Rio Verde/MT | K9: horas noturnas
A10: E | B10: Número de meses de execução contratual: | C10: 12
A11: F | B11: Tipo de Serviço (mesmo serviço com características distintas) | C11: Serviço de Mão de Obra de Cuidador Social 12x36 Noturno | J11: Mínimo | K11: 180h = 15 plantões | L11: =15*7 -> 105
A12: G | B12: Unidade de Medida | C12: Posto/Mês | J12: media | K12: 192h=16 plantões | L12: =16*7 -> 112
A13: H | B13: Classificação Brasileira de Ocupações (CBO) | C13: 5153-10 | J13: máximo | K13: 204h=17 plantões | L13: =17*7 -> 119
A14: I | B14: Salário Normativo da Categoria Profissional 44H | C14: 0
A15: J | B15: Categoria Profissional (vinculada à execução contratual) | C15: Empregados de Empresas de Asseio e Conservação
A16: K | B16: Ano Acordo, Convenção ou Dissídio Coletivo | C16: 2026
A17: L | B17: Nº de registro do Acordo, Convenção ou Dissídio Coletivo | C17: MT000140/2026
A18: M | B18: Data-Base da Categoria (dia/mês/ano) | C18: 46023
A21: Módulo 1 - Composição da Remuneração | F21: Salário normativo
F22: =C14 -> 0
A23: 1 | B23: Composição da Remuneração | D23: Valor (R$) | G23: 180 | H23: horas/mes
A24: A | B24: Salário-Base | D24: 0 | F24: =C14/220 -> 0 | G24: =F24*G23 -> 0 | H24: base proporcional
A25: B | B25: Adicional de Assiduidade | D25: 0
A26: C | B26: Adicional Noturno | C26: 0.2 | D26: =((D24)/220)*0.2*7*15 -> 0
A27: D | B27: Adicional Hora Noturna reduzida | D27: =((D24)/220)*1.2*1*15 -> 0
A28: Total | D28: =SUM(D24:D27) -> 0
A29: Salário-Base: Foi utilizado a 10ª Faixa Salarial da CCT MT000140/2026
A30: Para cálculos do item 1(C) foi considerado o trabalho de 7 horas noturnas por plantão e considerado que na escala 12x36 o profissional irá trabalhar 15 plantões no mês. Para o valor da hora de referência foi considerado o salário base e carga horária de 220h, sendo R$ 4.093,92/220 = R$ 18,61 valor da hora normal para fins de cálculo do adicional noturno e aplicado o adicional de 20% sobre as horas trabalhadas. Foi utilizado a seguinte fórmula: (((Sal. Base/220))*20%)) x quantidade horas noturnas) x quantidade dias com adicional noturno))
A31: Para cálculos do item 1 (D) foi considerado o fator de redução na hora noturna trabalhada, sendo que a cada 60 minutos trabalhados, é computado 52 minutos e 30 segundos. Foi utilizado a seguinte fórmula: (((salário base/220) x quantidade de hora noturna adicional) x 120%) x quantidade de dias trabalhados))
A32: Valor do adicional noturno será pago sobre o valor da hora efetivamente trabalhada.
A34: Módulo 2 - Encargos e Benefícios Anuais, Mensais e Diários
A36: BASE DE CÁLCULO PARA O MÓDULO 2.1: | C36: MÓDULO 1 | D36: =D28 -> 0
C37: TOTAL | D37: =SUM(D36) -> 0
A39: Submódulo 2.1 - 13º (décimo terceiro) Salário, Férias e Adicional de Férias
A41: 2.1 | B41: 13º (décimo terceiro) Salário, Férias e Adicional de Férias | C41: Percentual (%) | D41: Valor (R$)
A42: A | B42: 13º (décimo terceiro) Salário | C42: 0.08333 | D42: =ROUND($D$37*C42,2) -> 0
A43: B | B43: Férias | C43: 0.08333 | D43: =ROUND($D$37*C43,2) -> 0
A44: C | B44: Adicional de Férias | C44: 0.027778 | D44: =ROUND($D$37*C44,2) -> 0
A45: Total | D45: =SUM(D42:D44) -> 0
A46: Para cálculos do itens 2.1 (A.B): Calculo mensal representando 12 meses, logo, 1/12 (um doze avos), (100%/12)=8,333% (100% remuneração/12 meses) Para cálculo do item 2.1.C: O adicional de férias corresponde a 1/3 da remuneração mensal, logo, 100%/3/12=2,7778%
A48: BASE DE CÁLCULO PARA O MÓDULO 2.2: | C48: MÓDULO 1 | D48: =D28 -> 0
C49: MÓDULO 2.1 | D49: =D45 -> 0
...

Sheet Biomedico 40H
A1: PLANILHA DE CUSTOS E FORMAÇÃO DE PREÇOS
A2: MODELO PARA A CONSOLIDAÇÃO E APRESENTAÇÃO DE PROPOSTAS
A4: 1. DISCRIMINAÇÃO DOS SERVIÇOS (DADOS REFERENTES À CONTRATAÇÃO)
A6: A | B6: Nº do Processo | C6: 19.699/2026
A7: B | B7: Modalidade Licitação | C7: Pregão Eletrônico
A8: C | B8: Data de apresentação da proposta (dia/mês/ano): | C8: 46182
A9: D | B9: Município/UF | C9: Lucas do Rio Verde/MT
A10: E | B10: Número de meses de execução contratual: | C10: 12
A11: F | B11: Tipo de Serviço (mesmo serviço com características distintas) | C11: Biomédico 40H
A12: G | B12: Unidade de Medida | C12: Posto/Mês
A13: H | B13: Classificação Brasileira de Ocupações (CBO) | C13: 4110-05
A14: I | B14: Salário Normativo da Categoria Profissional | C14: 0
A15: J | B15: Categoria Profissional (vinculada à execução contratual) | C15: Empregados de Empresas de Asseio e Conservação
A16: K | B16: Ano Acordo, Convenção ou Dissídio Coletivo | C16: 2026
A17: L | B17: Nº de registro do Acordo, Convenção ou Dissídio Coletivo | C17: MT000140/2026
A18: M | B18: Data-Base da Categoria (dia/mês/ano) | C18: 46023
A21: Módulo 1 - Composição da Remuneração
A23: 1 | B23: Composição da Remuneração | D23: Valor (R$)
A24: A | B24: Salário-Base | D24: 0 | F24: salário mínimo
A25: B | B25: Adicional de Assiduidade | D25: 0 | F25: 1621
A26: C | B26: Adicional Insalubridade | C26: 0.4 | D26: 0
A27: D | B27: Horas Extras 50% (Máximo 30 horas/mês) | D27: =((D24+D26)/200*1.5*30) -> 0
A28: E | B28: Horas Extras 100% (Máximo 12 horas/mês) | D28: =((D24+D26)/200*2*12) -> 0
A29: Total | D29: =SUM(D24:D28) -> 0
A30: Salário-Base: Considerando que o cargo não está inserido em uma faixa específica na CCT MT 000140/2026, foi utilizado como salário base o salário médio praticado da categoria no Estado de Mato Grosso, conforme pesquisa de preços realizada no sítio eletrônico especializado “www.salario.com.br” que extrai informações oficiais do CAGED.
A31: Para cálculos do item 1(C ) Para base de cálculos foi considerado o adicional de insalubridade em seu grau máximo, correspondente a 40%, no entanto, o adicional será pago conforme grau de insalubridade apresentado em laudo técnico.
A32: Para cálculos do item 1(D) Será permitido a realização de 30 horas extras no mês, mediante autorização prévia. O valor da hora de referência foi estabelecido da seguinte forma: ((Salário base + (insalubridade aplicada sobre salário mínimo)/carga horária 200h) * adicional 50% * quantidade máxima de 30 horas).
A33: Para cálculos do item 1(E) Será permitido a realização de 12 horas extras no mês, mediante autorização prévia. O valor da hora de referência foi estabelecido da seguinte forma: ((Salário base + (insalubridade aplicada sobre salário mínimo)/carga horária 200h) * adicional 100% * quantidade máxima de 12 horas).
A35: Módulo 2 - Encargos e Benefícios Anuais, Mensais e Diários
A37: BASE DE CÁLCULO PARA O MÓDULO 2.1: | C37: MÓDULO 1 | D37: =D29 -> 0
C38: TOTAL | D38: =SUM(D37) -> 0
A40: Submódulo 2.1 - 13º (décimo terceiro) Salário, Férias e Adicional de Férias
A42: 2.1 | B42: 13º (décimo terceiro) Salário, Férias e Adicional de Férias | C42: Percentual (%) | D42: Valor (R$)
A43: A | B43: 13º (décimo terceiro) Salário | C43: 0.08333 | D43: =ROUND($D$38*C43,2) -> 0
A44: B | B44: Férias | C44: 0.08333 | D44: =ROUND($D$38*C44,2) -> 0
A45: C | B45: Adicional de Férias | C45: 0.027778 | D45: =ROUND($D$38*C45,2) -> 0
A46: Total | D46: =SUM(D43:D45) -> 0
A47: Para cálculos do itens 2.1 (A.B): Calculo mensal representando 12 meses, logo, 1/12 (um doze avos), (100%/12)=8,333% (100% remuneração/12 meses) Para cálculo do item 2.1.C: O adicional de férias corresponde a 1/3 da remuneração mensal, logo, 100%/3/12=2,7778%
A49: BASE DE CÁLCULO PARA O MÓDULO 2.2: | C49: MÓDULO 1 | D49: =D29 -> 0
C50: MÓDULO 2.1 | D50: =D46 -> 0
...

Sheet Educador Físico 40H
A1: PLANILHA DE CUSTOS E FORMAÇÃO DE PREÇOS
A2: MODELO PARA A CONSOLIDAÇÃO E APRESENTAÇÃO DE PROPOSTAS
A4: 1. DISCRIMINAÇÃO DOS SERVIÇOS (DADOS REFERENTES À CONTRATAÇÃO)
A6: A | B6: Nº do Processo | C6: 19.699/2026
A7: B | B7: Modalidade Licitação | C7: Pregão Eletrônico
A8: C | B8: Data de apresentação da proposta (dia/mês/ano): | C8: 46182
A9: D | B9: Município/UF | C9: Lucas do Rio Verde/MT
A10: E | B10: Número de meses de execução contratual: | C10: 12
A11: F | B11: Tipo de Serviço (mesmo serviço com características distintas) | C11: Serviço de Mão de Obra de Educador Físico 30H
A12: G | B12: Unidade de Medida | C12: Posto/Mês
A13: H | B13: Classificação Brasileira de Ocupações (CBO) | C13: 2241-40
A14: I | B14: Salário Normativo da Categoria Profissional 44H | C14: 0
A15: J | B15: Categoria Profissional (vinculada à execução contratual) | C15: Empregados de Empresas de Asseio e Conservação
A16: K | B16: Ano Acordo, Convenção ou Dissídio Coletivo | C16: 2026
A17: L | B17: Nº de registro do Acordo, Convenção ou Dissídio Coletivo | C17: MT000140/2026
A18: M | B18: Data-Base da Categoria (dia/mês/ano) | C18: 46023
A21: Módulo 1 - Composição da Remuneração
A23: 1 | B23: Composição da Remuneração | D23: Valor (R$)
A24: A | B24: Salário-Base | D24: 0
A25: B | B25: Adicional de Assiduidade | D25: 0
A26: Total | D26: =SUM(D24:D25) -> 0
A27: Salário-Base: Considerando que o cargo não está inserido em uma faixa específica na CCT MT 000140/2026, foi utilizado como salário base o salário médio praticado da categoria no Estado de Mato Grosso, conforme pesquisa de preços realizada no sítio eletrônico especializado “www.salario.com.br” que extrai informações oficiais do CAGED.
A29: Módulo 2 - Encargos e Benefícios Anuais, Mensais e Diários
A31: BASE DE CÁLCULO PARA O MÓDULO 2.1: | C31: MÓDULO 1 | D31: =D26 -> 0
C32: TOTAL | D32: =SUM(D31) -> 0
A34: Submódulo 2.1 - 13º (décimo terceiro) Salário, Férias e Adicional de Férias
A36: 2.1 | B36: 13º (décimo terceiro) Salário, Férias e Adicional de Férias | C36: Percentual (%) | D36: Valor (R$)
A37: A | B37: 13º (décimo terceiro) Salário | C37: 0.08333 | D37: =ROUND($D$32*C37,2) -> 0
A38: B | B38: Férias | C38: 0.08333 | D38: =ROUND($D$32*C38,2) -> 0
A39: C | B39: Adicional de Férias | C39: 0.027778 | D39: =ROUND($D$32*C39,2) -> 0
A40: Total | D40: =SUM(D37:D39) -> 0
A41: Para cálculos do itens 2.1 (A.B): Calculo mensal representando 12 meses, logo, 1/12 (um doze avos), (100%/12)=8,333% (100% remuneração/12 meses) Para cálculo do item 2.1.C: O adicional de férias corresponde a 1/3 da remuneração mensal, logo, 100%/3/12=2,7778%
A43: BASE DE CÁLCULO PARA O MÓDULO 2.2: | C43: MÓDULO 1 | D43: =D26 -> 0
C44: MÓDULO 2.1 | D44: =D40 -> 0
C45: TOTAL | D45: =SUM(D43:D44) -> 0
A47: Submódulo 2.2 - Encargos Previdenciários (GPS), Fundo de Garantia por Tempo de Serviço (FGTS) e outras contribuições.
A49: 2.2 | B49: GPS, FGTS e outras contribuições | C49: Percentual (%) | D49: Valor (R$)
A50: A | B50: INSS | C50: 0.2 | D50: =D45*C50 -> 0
A51: B | B51: Salário Educação | C51: 0.025 | D51: =D45*C51 -> 0
A52: C | B52: RAT X FAP (Riscos ambientais no trabalho x Fator acidentário de prevenção) | C52: 0.06 | D52: =D45*C52 -> 0
...

Sheet Motorista sanitario 44H
A1: PLANILHA DE CUSTOS E FORMAÇÃO DE PREÇOS
A2: MODELO PARA A CONSOLIDAÇÃO E APRESENTAÇÃO DE PROPOSTAS
A4: 1. DISCRIMINAÇÃO DOS SERVIÇOS (DADOS REFERENTES À CONTRATAÇÃO)
A6: A | B6: Nº do Processo | C6: 19.699/2026
A7: B | B7: Modalidade Licitação | C7: Pregão Eletrônico
A8: C | B8: Data de apresentação da proposta (dia/mês/ano): | C8: 46179
A9: D | B9: Município/UF | C9: Lucas do Rio Verde/MT | K9: horas noturnas
A10: E | B10: Número de meses de execução contratual: | C10: 12
A11: F | B11: Tipo de Serviço (mesmo serviço com características distintas) | C11: Serviço de Mão de Obra de Motorista Transporte Sanitário 44H | J11: Mínimo | K11: 180h = 15 plantões | L11: =15*7 -> 105
A12: G | B12: Unidade de Medida | C12: Posto/Mês | J12: media | K12: 192h=16 plantões | L12: =16*7 -> 112
A13: H | B13: Classificação Brasileira de Ocupações (CBO) | C13: 7823-20 | J13: máximo | K13: 204h=17 plantões | L13: =17*7 -> 119
A14: I | B14: Salário Normativo da Categoria Profissional 44H | C14: 0
A15: J | B15: Categoria Profissional (vinculada à execução contratual) | C15: Empregados de Empresas de Asseio e Conservação
A16: K | B16: Ano Acordo, Convenção ou Dissídio Coletivo | C16: 2026
A17: L | B17: Nº de registro do Acordo, Convenção ou Dissídio Coletivo | C17: MT000140/2026
A18: M | B18: Data-Base da Categoria (dia/mês/ano) | C18: 46023
A21: Módulo 1 - Composição da Remuneração | F21: Salário normativo
F22: =C14 -> 0
A23: 1 | B23: Composição da Remuneração | D23: Valor (R$) | G23: 180 | H23: normal é 180h mensal
A24: A | B24: Salário-Base | D24: 0 | F24: =C14/220 -> 0 | G24: =F24*G23 -> 0 | H24: base proporcional
A25: B | B25: Adicional de Assiduidade | D25: 0
A26: C | B26: Adicional Insalubridade | C26: 0.4 | D26: =D24*C26 -> 0 | F26: =(D24+D26+#ref!)/180 -> #NAME?
A27: D | B27: Horas Extras 50% (Máximo 50 horas/mês) | D27: =((D24+D26)/200*1.5*50) -> 0
A28: E | B28: Horas Extras 100% (Máximo 30 horas/mês) | D28: =((D24+D26)/200*2*30) -> 0
A29: Total | D29: =SUM(D24:D28) -> 0
A30: Salário-Base: Considerando que o cargo não está inserido em uma faixa específica na CCT MT 000140/2026, foi utilizado como salário base o piso salarial da categoria de R$ 2.770,00, praticado no Estado de Mato Grosso, conforme pesquisa de preços realizada no sítio eletrônico especializado “www.salario.com.br” que extrai informações oficiais do CAGED.
A31: Para base de cálculos do item 1 (C ) foi considerado o adicional de insalubridade em seu grau máximo, correspondente a 40%, no entanto, o adicional será pago conforme grau de insalubridade apresentado em laudo técnico.
A32: Para cálculos do item 1(D) Será permitido a realização de 50 horas extras no mês, mediante autorização prévia. O valor da hora de referência foi estabelecido da seguinte forma: ((Salário base+insalubridade/carga horária 200h) * adicional 50% * quantidade máxima de 50 horas).
A33: Para cálculos do item 1(E) Será permitido a realização de 30 horas extras no mês, mediante autorização prévia. O valor da hora de referência foi estabelecido da seguinte forma: ((Salário base+insalubridade/carga horária 200h) * adicional 100% * quantidade máxima de 30 horas).
A35: Módulo 2 - Encargos e Benefícios Anuais, Mensais e Diários
A37: BASE DE CÁLCULO PARA O MÓDULO 2.1: | C37: MÓDULO 1 | D37: =D29 -> 0
C38: TOTAL | D38: =SUM(D37) -> 0
A40: Submódulo 2.1 - 13º (décimo terceiro) Salário, Férias e Adicional de Férias
A42: 2.1 | B42: 13º (décimo terceiro) Salário, Férias e Adicional de Férias | C42: Percentual (%) | D42: Valor (R$)
A43: A | B43: 13º (décimo terceiro) Salário | C43: 0.08333 | D43: =ROUND($D$38*C43,2) -> 0
A44: B | B44: Férias | C44: 0.08333 | D44: =ROUND($D$38*C44,2) -> 0
A45: C | B45: Adicional de Férias | C45: 0.027778 | D45: =ROUND($D$38*C45,2) -> 0
A46: Total | D46: =SUM(D43:D45) -> 0
A47: Para cálculos do itens 2.1 (A.B): Calculo mensal representando 12 meses, logo, 1/12 (um doze avos), (100%/12)=8,333% (100% remuneração/12 meses) Para cálculo do item 2.1.C: O adicional de férias corresponde a 1/3 da remuneração mensal, logo, 100%/3/12=2,7778%
A49: BASE DE CÁLCULO PARA O MÓDULO 2.2: | C49: MÓDULO 1 | D49: =D29 -> 0
...

Sheet Motorista sanitario 36H Noturno
A1: PLANILHA DE CUSTOS E FORMAÇÃO DE PREÇOS
A2: MODELO PARA A CONSOLIDAÇÃO E APRESENTAÇÃO DE PROPOSTAS
A4: 1. DISCRIMINAÇÃO DOS SERVIÇOS (DADOS REFERENTES À CONTRATAÇÃO)
A6: A | B6: Nº do Processo | C6: 19.699/2026
A7: B | B7: Modalidade Licitação | C7: Pregão Eletrônico
A8: C | B8: Data de apresentação da proposta (dia/mês/ano): | C8: 46179
A9: D | B9: Município/UF | C9: Lucas do Rio Verde/MT | K9: horas noturnas
A10: E | B10: Número de meses de execução contratual: | C10: 12
A11: F | B11: Tipo de Serviço (mesmo serviço com características distintas) | C11: Serviço de Mão de Obra de Motorista Transporte Sanitário 36H Noturno | J11: Mínimo | K11: 180h = 15 plantões | L11: =21*2 -> 42
A12: G | B12: Unidade de Medida | C12: Posto/Mês | J12: media | K12: 192h=16 plantões | L12: =16*7 -> 112
A13: H | B13: Classificação Brasileira de Ocupações (CBO) | C13: 7823-20 | J13: máximo | K13: 204h=17 plantões | L13: =17*7 -> 119
A14: I | B14: Salário Normativo da Categoria Profissional 44H | C14: 0
A15: J | B15: Categoria Profissional (vinculada à execução contratual) | C15: Empregados de Empresas de Asseio e Conservação
A16: K | B16: Ano Acordo, Convenção ou Dissídio Coletivo | C16: 2026
A17: L | B17: Nº de registro do Acordo, Convenção ou Dissídio Coletivo | C17: MT000140/2026 | K17: horas noturnas
A18: M | B18: Data-Base da Categoria (dia/mês/ano) | C18: 46023
J19: Mínimo | K19: 180h = 2h por dia x 24 dia | L19: 42
A21: Módulo 1 - Composição da Remuneração | F21: Salário normativo
F22: =C14 -> 0
A23: 1 | B23: Composição da Remuneração | D23: Valor (R$) | G23: 180 | H23: normal é 180h mensal
A24: A | B24: Salário-Base | D24: 0 | F24: =C14/220 -> 0 | G24: =F24*G23 -> 0 | H24: base proporcional
A25: B | B25: Adicional de Assiduidade | D25: 0
A26: C | B26: Adicional Insalubridade | C26: 0.4 | D26: 0 | F26: =(D24+D26+#ref!)/180 -> #NAME?
A27: D | B27: Adicional Noturno | C27: 0.2 | D27: =((D24+D26)/180)*0.2*2*24 -> 0
A28: E | B28: Adicional Hora Noturna reduzida | D28: =((D24+D26)/180)*1.2*0.285714*24 -> 0
A29: F | B29: Horas Extras 50% (Máximo 50 horas/mês) | D29: =((D24+D26)/180*1.5*50) -> 0
A30: G | B30: Horas Extras 100% (Máximo 30 horas/mês) | D30: =((D24+D26)/180*2*30) -> 0
A31: Total | D31: =SUM(D24:D30) -> 0
A32: Salário-Base: Considerando que o cargo não está inserido em uma faixa específica na CCT MT 000140/2026, foi utilizado como salário base o piso salarial da categoria de R$ 2.770,00 (carga horaria 44H), praticado no Estado de Mato Grosso, conforme pesquisa de preços realizada no sítio eletrônico especializado “www.salario.com.br” que extrai informações oficiais do CAGED. O valor do salário base para carga horária de 36 horas semanais, foi estabelecido da seguinte forma: ((Salário base referência 44h/220)*180 horas)).
A33: O posto será para atuação no Pronto Atendimento Municipal, sendo necessário a realização de 6 (seis) horas de trabalho diário e 6 (seis) vezes na semana, resultando em uma carga horária semanal de 36 horas e carga horária mensal mínima de 180 horas.
A34: Para base de cálculos do item 1 (C ) foi considerado o adicional de insalubridade em seu grau máximo, correspondente a 40% do salário mínimo vigente, no entanto, o adicional será pago conforme grau de insalubridade apresentado em laudo técnico.
A35: Para cálculos do item 1(D) foi considerado o trabalho de 2 horas noturnas por dia e considerado que o profissional irá trabalhar 24 dias no mês. Para o valor da hora de referência foi considerado o salário base + insalubridade e carga horária de 180h, sendo R$ 2.266,36/180 = R$ 12,59 valor da hora normal para fins de cálculo do adicional noturno e aplicado o adicional de 20% sobre as horas trabalhadas. Foi utilizado a seguinte fórmula: =((SalárioBase+SalárioMínimo*40%)/180)*20%*2*24.
A36: Para cálculos do item 1 (E) foi considerado o fator de redução na hora noturna trabalhada, sendo que a cada 60 minutos trabalhados, é computado 52 minutos e 30 segundos. Foi aplicado s seguinte formular para definir o fator de redução diário das horas noturnas (60/52,5-1=0,142857). Para estabelecer o valor do adicional hora noturna reduzida, foi utilizado a seguinte fórmula: ((salário base+insalubridade/180) x quantidade de hora noturna adicional) x 120%) x 0,142857 x quantidade de dias trabalhados.
A37: Para cálculos do item 1(F) Será permitido a realização de 50 horas extras no mês, mediante autorização prévia. O valor da hora de referência foi estabelecido da seguinte forma: =((saláriobase+(salário mínimo*insalubridade))/180)*1,5*quantidade horas extras.
A38: Para cálculos do item 1(G) Será permitido a realização de 50 horas extras no mês, mediante autorização prévia. O valor da hora de referência foi estabelecido da seguinte forma: =((saláriobase+(salário mínimo*insalubridade))/180)*2*quantidade horas extras.
A39: O valor do adicional noturno e adicional hora noturna reduzida será pago sobre o valor da hora efetivamente trabalhada.
A41: Módulo 2 - Encargos e Benefícios Anuais, Mensais e Diários
A43: BASE DE CÁLCULO PARA O MÓDULO 2.1: | C43: MÓDULO 1 | D43: =D31 -> 0
C44: TOTAL | D44: =SUM(D43) -> 0
A46: Submódulo 2.1 - 13º (décimo terceiro) Salário, Férias e Adicional de Férias
...

Sheet Motorista sanitario 12x36 Diurn
A1: PLANILHA DE CUSTOS E FORMAÇÃO DE PREÇOS
A2: MODELO PARA A CONSOLIDAÇÃO E APRESENTAÇÃO DE PROPOSTAS
A4: 1. DISCRIMINAÇÃO DOS SERVIÇOS (DADOS REFERENTES À CONTRATAÇÃO)
A6: A | B6: Nº do Processo | C6: 19.699/2026
A7: B | B7: Modalidade Licitação | C7: Pregão Eletrônico
A8: C | B8: Data de apresentação da proposta (dia/mês/ano): | C8: 46179
A9: D | B9: Município/UF | C9: Lucas do Rio Verde/MT | K9: horas noturnas
A10: E | B10: Número de meses de execução contratual: | C10: 12
A11: F | B11: Tipo de Serviço (mesmo serviço com características distintas) | C11: Serviço de Mão de Obra de Motorista Transporte Sanitário12x36 Diurno | J11: Mínimo | K11: 180h = 15 plantões | L11: =15*7 -> 105
A12: G | B12: Unidade de Medida | C12: Posto/Mês | J12: media | K12: 192h=16 plantões | L12: =16*7 -> 112
A13: H | B13: Classificação Brasileira de Ocupações (CBO) | C13: 7823-20 | J13: máximo | K13: 204h=17 plantões | L13: =17*7 -> 119
A14: I | B14: Salário Normativo da Categoria Profissional 44H | C14: 0
A15: J | B15: Categoria Profissional (vinculada à execução contratual) | C15: Empregados de Empresas de Asseio e Conservação
A16: K | B16: Ano Acordo, Convenção ou Dissídio Coletivo | C16: 2026
A17: L | B17: Nº de registro do Acordo, Convenção ou Dissídio Coletivo | C17: MT000140/2026
A18: M | B18: Data-Base da Categoria (dia/mês/ano) | C18: 46023
A21: Módulo 1 - Composição da Remuneração | F21: Salário normativo
F22: =C14 -> 0
A23: 1 | B23: Composição da Remuneração | D23: Valor (R$) | G23: 180 | H23: normal é 180h mensal
A24: A | B24: Salário-Base | D24: 0 | F24: =C14/220 -> 0 | G24: =F24*G23 -> 0 | H24: base proporcional
A25: B | B25: Adicional de Assiduidade | D25: 0
A26: C | B26: Adicional Insalubridade | C26: 0.4 | D26: 0 | F26: =(D24+D26+#ref!)/180 -> #NAME?
A27: Total | D27: =SUM(D24:D26) -> 0
A28: Salário-Base: Considerando que o cargo não está inserido em uma faixa específica na CCT MT 000140/2026, foi utilizado como salário base o piso salarial da categoria de R$ 2.770,00, praticado no Estado de Mato Grosso, conforme pesquisa de preços realizada no sítio eletrônico especializado “www.salario.com.br” que extrai informações oficiais do CAGED.
A29: Para base de cálculos do item 1 (C ) foi considerado o adicional de insalubridade em seu grau máximo, correspondente a 40% do salário mínimo vigente, no entanto, o adicional será pago conforme grau de insalubridade apresentado em laudo técnico.
A31: Módulo 2 - Encargos e Benefícios Anuais, Mensais e Diários
A33: BASE DE CÁLCULO PARA O MÓDULO 2.1: | C33: MÓDULO 1 | D33: =D27 -> 0
C34: TOTAL | D34: =SUM(D33) -> 0
A36: Submódulo 2.1 - 13º (décimo terceiro) Salário, Férias e Adicional de Férias
A38: 2.1 | B38: 13º (décimo terceiro) Salário, Férias e Adicional de Férias | C38: Percentual (%) | D38: Valor (R$)
A39: A | B39: 13º (décimo terceiro) Salário | C39: 0.08333 | D39: =ROUND($D$34*C39,2) -> 0
A40: B | B40: Férias | C40: 0.08333 | D40: =ROUND($D$34*C40,2) -> 0
A41: C | B41: Adicional de Férias | C41: 0.027778 | D41: =ROUND($D$34*C41,2) -> 0
A42: Total | D42: =SUM(D39:D41) -> 0
A43: Para cálculos do itens 2.1 (A.B): Calculo mensal representando 12 meses, logo, 1/12 (um doze avos), (100%/12)=8,333% (100% remuneração/12 meses) Para cálculo do item 2.1.C: O adicional de férias corresponde a 1/3 da remuneração mensal, logo, 100%/3/12=2,7778%
A45: BASE DE CÁLCULO PARA O MÓDULO 2.2: | C45: MÓDULO 1 | D45: =D27 -> 0
C46: MÓDULO 2.1 | D46: =D42 -> 0
C47: TOTAL | D47: =SUM(D45:D46) -> 0
A49: Submódulo 2.2 - Encargos Previdenciários (GPS), Fundo de Garantia por Tempo de Serviço (FGTS) e outras contribuições.
A51: 2.2 | B51: GPS, FGTS e outras contribuições | C51: Percentual (%) | D51: Valor (R$)
...

Sheet Custos EPI
A1: RELAÇÃO DE EPI OBRIGATÓRIOS
A3: APOIO TÉCNICO ADMINISTRATIVO I
A5: DESCRIÇÃO ITEM | B5: QTD ANO | C5: VLR UNIT | D5: VLR TOTAL
A6: CAMISA GOLA POLO, CONFECCIONADA EM MALHA PIQUET COM COMPOSIÇÃO MÍNIMA DE 67% POLI ESTER E 33% VISCOSE, GRAMATURA MÍNIMA DE 190 G/M2 | B6: 4 | C6: 40 | D6: =C6*B6 -> 160
A7: CALÇA JEANS TRADICIONAL EM TECIDO LEVE 11 OZ COM COMPOSIÇÃO MÍNIMA DE (70% ALGODÃO, 28% POLIÉSTER E 2% ELASTANO | B7: 4 | C7: 64.94 | D7: =C7*B7 -> 259.76
A8: CUSTO TOTAL EPI | C8: =SUM(D6:D7) -> 419.76
A11: APOIO TÉCNICO ADMINISTRATIVO II
A13: DESCRIÇÃO ITEM | B13: QTD ANO | C13: VLR UNIT | D13: VLR TOTAL
A14: CAMISA GOLA POLO, CONFECCIONADA EM MALHA PIQUET COM COMPOSIÇÃO MÍNIMA DE 67% POLI ESTER E 33% VISCOSE, GRAMATURA MÍNIMA DE 190 G/M2 | B14: 4 | C14: 40 | D14: =C14*B14 -> 160
A15: CALÇA JEANS TRADICIONAL EM TECIDO LEVE 11 OZ COM COMPOSIÇÃO MÍNIMA DE (70% ALGODÃO, 28% POLIÉSTER E 2% ELASTANO | B15: 4 | C15: 64.94 | D15: =C15*B15 -> 259.76
A16: CUSTO TOTAL EPI | C16: =SUM(D14:D15) -> 419.76
A19: TÉCNICO ADMINISTRATIVO DE SUPORTE
A21: DESCRIÇÃO ITEM | B21: QTD ANO | C21: VLR UNIT | D21: VLR TOTAL
A22: CAMISA GOLA POLO, CONFECCIONADA EM MALHA PIQUET COM COMPOSIÇÃO MÍNIMA DE 67% POLI ESTER E 33% VISCOSE, GRAMATURA MÍNIMA DE 190 G/M2 | B22: 4 | C22: 40 | D22: =C22*B22 -> 160
A23: CALÇA JEANS TRADICIONAL EM TECIDO LEVE 11 OZ COM COMPOSIÇÃO MÍNIMA DE (70% ALGODÃO, 28% POLIÉSTER E 2% ELASTANO | B23: 4 | C23: 64.94 | D23: =C23*B23 -> 259.76
A24: CUSTO TOTAL EPI | C24: =SUM(D22:D23) -> 419.76
A27: CUIDADOR SOCIAL
A29: DESCRIÇÃO ITEM | B29: QTD ANO | C29: VLR UNIT | D29: VLR TOTAL
A30: CAMISA GOLA POLO, CONFECCIONADA EM MALHA PIQUET COM COMPOSIÇÃO MÍNIMA DE 67% POLI ESTER E 33% VISCOSE, GRAMATURA MÍNIMA DE 190 G/M2 | B30: 4 | C30: 40 | D30: =C30*B30 -> 160
A31: CALÇA JEANS TRADICIONAL EM TECIDO LEVE 11 OZ COM COMPOSIÇÃO MÍNIMA DE (70% ALGODÃO, 28% POLIÉSTER E 2% ELASTANO | B31: 4 | C31: 64.94 | D31: =C31*B31 -> 259.76
A32: CALÇADO SOFT WORKS | B32: 2 | C32: 98.29 | D32: =C32*B32 -> 196.58
A33: CUSTO TOTAL EPI | C33: =SUM(D30:D32) -> 616.34
A36: EDUCADOR SOCIAL
A38: DESCRIÇÃO ITEM | B38: QTD ANO | C38: VLR UNIT | D38: VLR TOTAL
A39: CAMISA GOLA POLO, CONFECCIONADA EM MALHA PIQUET COM COMPOSIÇÃO MÍNIMA DE 67% POLI ESTER E 33% VISCOSE, GRAMATURA MÍNIMA DE 190 G/M2 | B39: 4 | C39: 40 | D39: =C39*B39 -> 160
A40: CALÇA JEANS TRADICIONAL EM TECIDO LEVE 11 OZ COM COMPOSIÇÃO MÍNIMA DE (70% ALGODÃO, 28% POLIÉSTER E 2% ELASTANO | B40: 4 | C40: 64.94 | D40: =C40*B40 -> 259.76
A41: CUSTO TOTAL EPI | C41: =SUM(D39:D40) -> 419.76
A44: TÉCNICO LABORATÓRIO
A46: DESCRIÇÃO ITEM | B46: QTD ANO | C46: VLR UNIT | D46: VLR TOTAL
A47: CAMISETA MEIA MANGA, TIPO T-SHIRT, GOLA CARECA | B47: 2 | C47: 48.57 | D47: =C47*B47 -> 97.14
A48: JALECO MANGA LONGA, COM PUNHO ELÁSTICO E ABOTOADO | B48: 2 | C48: 118.17 | D48: =C48*B48 -> 236.34
A49: CALÇA JEANS BRIM COR BRANCA | B49: 4 | C49: 68.27 | D49: =C49*B49 -> 273.08
A50: CALÇADO SOFT WORKS | B50: 2 | C50: 98.29 | D50: =C50*B50 -> 196.58
A51: CUSTO TOTAL EPI | C51: =SUM(D47:D50) -> 803.14
A54: TÉCNICO EM RADIOLOGIA
A56: DESCRIÇÃO ITEM | B56: QTD ANO | C56: VLR UNIT | D56: VLR TOTAL
A57: CAMISETA MANGA CURTA, GOLA CARECA, MALHA 100% ALGODÃO | B57: 4 | C57: 48.57 | D57: =C57*B57 -> 194.28
A58: CALÇA JEANS BRIM COR BRANCA | B58: 4 | C58: 68.27 | D58: =C58*B58 -> 273.08
A59: JALECO MANGA LONGA GOLA TRADICIONAL, FECHAMENTO COM BOTÕES E CINTO TRASEIRO | B59: 1 | C59: 118.17 | D59: =C59*B59 -> 118.17
A60: CALÇADO SOFT WORKS | B60: 2 | C60: 98.29 | D60: =C60*B60 -> 196.58
...
